BEGIN:VCALENDAR
VERSION:2.0
PRODID:icalendar-ruby
CALSCALE:GREGORIAN
METHOD:PUBLISH
BEGIN:VEVENT
DTSTAMP:20260420T102510Z
UID:199-795050@loganstreetbaptist.org
DTSTART:20260516T130000Z
DTEND:20260516T150000Z
CLASS:PUBLIC
CREATED:20260419T205346
DESCRIPTION:Join us for this great time of good food and fellowship as we l
 earn more about God's design for men.
LAST-MODIFIED:20260419T205346
LOCATION:Pavilion
SUMMARY:Men's Ministry Breakfast
URL;VALUE=URI:https://loganstreetbaptist.org/events/mens-ministry-breakfast
 /2026-05-16
ATTACH;FILENAME=Mens-Breakfast-2026.jpg;FMTTYPE=image/jpeg:https://dq5pwpg1
 q8ru0.cloudfront.net/2026/04/20/01/53/46/9db9d29c-1040-411e-a3f7-980371840
 83f/Mens-Breakfast-2026.jpg
END:VEVENT
END:VCALENDAR
